Workbook
Name data: OFFSET(NILAI!$O$2,0,0,COUNTA(NILAI!$O:$O),1)
Name PAS: OFFSET(NILAI!$O$2:$Q$35,0,0,COUNTM(NILAI!$O:$O)-1,3)
Name Remed: OFFSET(NILAI!$T$2,0,0,COUNTA(NILAI!$T:$T),1)

Sheet NILAI
A1: No | B1: Nama | C1: KKM | D1: Nilai Asli | E1: Nilai Asli UP | F1: NAMA REMED | G1: Nilai Remedial/ Pengayaan | H1: Nilai Remedial UP | I1: Hasil Final PAS | J1: Hasil Final PAS | K1: PH 1 | L1: PH 2 | N1: N0 | O1: NAMA | P1: PAS | Q1: KET | S1: N0 | T1: NAMA | U1: REMED | V1: KET | X1: NILAI MAX | Z1: NO | AA1: NAMA | AB1: PAS | AC1: REMED | AD1: KET
A2: 1 | B2: {=IFERROR(INDEX(data,MATCH(SMALL(COUNTIF(data,"<"&data),ROW(2:11)),COUNTIF(data,"<"&data),0)),"")} | C2: 75 | D2: =IFERROR(VLOOKUP(B2,O$2:Q$41,2,FALSE),"0") -> 0 | E2: =IFERROR(75+((D2-D$42)/(D$43-D$42)*(X$2-75)),"") | F2: {=IFERROR(INDEX(Remed,MATCH(SMALL(COUNTIF(Remed,"<"&Remed),ROW(2:11)),COUNTIF(Remed,"<"&Remed),0)),"")} | G2: =IFERROR(VLOOKUP(F2,T$2:V$41,2,FALSE),"") | H2: =IFERROR(75+((G2-G$42)/(G$43-G$42)*(X$2-75)),"0") -> 0 | I2: =IFERROR((E2+H2)/2,"") | J2: =IFERROR(ROUND(I2,0),"") | N2: 1 | Q2: PAS | S2: 1 | V2: REMED | X2: 78 | Z2: 1 | AA2: ALI AKBAR SIMANJUTTAK | AB2: =IFERROR(VLOOKUP(AA2,O$2:Q$41,3,FALSE),"") | AC2: =IFERROR(VLOOKUP(AA2,T$2:V$41,3,FALSE),"") | AD2: =IF(AB2="PAS","","Tidak PAS")& " " &IF(AC2="REMED","","Tidak Remed") -> Tidak PAS Tidak Remed
A3: 2 | B3: {=IFERROR(INDEX(data,MATCH(SMALL(COUNTIF(data,"<"&data),ROW(3:12)),COUNTIF(data,"<"&data),0)),"")} | C3: 75 | D3: =IFERROR(VLOOKUP(B3,O$2:Q$41,2,FALSE),"0") -> 0 | E3: =IFERROR(75+((D3-D$42)/(D$43-D$42)*(X$2-75)),"") | F3: {=IFERROR(INDEX(Remed,MATCH(SMALL(COUNTIF(Remed,"<"&Remed),ROW(3:12)),COUNTIF(Remed,"<"&Remed),0)),"")} | G3: =IFERROR(VLOOKUP(F3,T$2:V$41,2,FALSE),"") | H3: =IFERROR(75+((G3-G$42)/(G$43-G$42)*(X$2-75)),"0") -> 0 | I3: =IFERROR((E3+H3)/2,"") | J3: =IFERROR(ROUND(I3,0),"") | N3: 2 | Q3: PAS | S3: 2 | V3: REMED | Z3: 2 | AA3: ASYIFA ZAHRA TAMBUNAN | AB3: =IFERROR(VLOOKUP(AA3,O$2:Q$41,3,FALSE),"") | AC3: =IFERROR(VLOOKUP(AA3,T$2:V$41,3,FALSE),"") | AD3: =IF(AB3="PAS","","Tidak PAS")& " " &IF(AC3="REMED","","Tidak Remed") -> Tidak PAS Tidak Remed | AF3: MAPEL | AG3: MATEMATIKA
A4: 3 | B4: {=IFERROR(INDEX(data,MATCH(SMALL(COUNTIF(data,"<"&data),ROW(4:13)),COUNTIF(data,"<"&data),0)),"")} | C4: 75 | D4: =IFERROR(VLOOKUP(B4,O$2:Q$41,2,FALSE),"0") -> 0 | E4: =IFERROR(75+((D4-D$42)/(D$43-D$42)*(X$2-75)),"") | F4: {=IFERROR(INDEX(Remed,MATCH(SMALL(COUNTIF(Remed,"<"&Remed),ROW(4:13)),COUNTIF(Remed,"<"&Remed),0)),"")} | G4: =IFERROR(VLOOKUP(F4,T$2:V$41,2,FALSE),"") | H4: =IFERROR(75+((G4-G$42)/(G$43-G$42)*(X$2-75)),"0") -> 0 | I4: =IFERROR((E4+H4)/2,"") | J4: =IFERROR(ROUND(I4,0),"") | N4: 3 | Q4: PAS | S4: 3 | V4: REMED | Z4: 3 | AA4: ERLINA HASIBUAN | AB4: =IFERROR(VLOOKUP(AA4,O$2:Q$41,3,FALSE),"") | AC4: =IFERROR(VLOOKUP(AA4,T$2:V$41,3,FALSE),"") | AD4: =IF(AB4="PAS","","Tidak PAS")& " " &IF(AC4="REMED","","Tidak Remed") -> Tidak PAS Tidak Remed
A5: 4 | B5: {=IFERROR(INDEX(data,MATCH(SMALL(COUNTIF(data,"<"&data),ROW(5:14)),COUNTIF(data,"<"&data),0)),"")} | C5: 75 | D5: =IFERROR(VLOOKUP(B5,O$2:Q$41,2,FALSE),"0") -> 0 | E5: =IFERROR(75+((D5-D$42)/(D$43-D$42)*(X$2-75)),"") | F5: {=IFERROR(INDEX(Remed,MATCH(SMALL(COUNTIF(Remed,"<"&Remed),ROW(5:14)),COUNTIF(Remed,"<"&Remed),0)),"")} | G5: =IFERROR(VLOOKUP(F5,T$2:V$41,2,FALSE),"") | H5: =IFERROR(75+((G5-G$42)/(G$43-G$42)*(X$2-75)),"0") -> 0 | I5: =IFERROR((E5+H5)/2,"") | J5: =IFERROR(ROUND(I5,0),"") | N5: 4 | Q5: PAS | S5: 4 | V5: REMED | Z5: 4 | AA5: FADLY GUNAWAN HUTASUHUT | AB5: =IFERROR(VLOOKUP(AA5,O$2:Q$41,3,FALSE),"") | AC5: =IFERROR(VLOOKUP(AA5,T$2:V$41,3,FALSE),"") | AD5: =IF(AB5="PAS","","Tidak PAS")& " " &IF(AC5="REMED","","Tidak Remed") -> Tidak PAS Tidak Remed
A6: 5 | B6: {=IFERROR(INDEX(data,MATCH(SMALL(COUNTIF(data,"<"&data),ROW(6:15)),COUNTIF(data,"<"&data),0)),"")} | C6: 75 | D6: =IFERROR(VLOOKUP(B6,O$2:Q$41,2,FALSE),"0") -> 0 | E6: =IFERROR(75+((D6-D$42)/(D$43-D$42)*(X$2-75)),"") | F6: {=IFERROR(INDEX(Remed,MATCH(SMALL(COUNTIF(Remed,"<"&Remed),ROW(6:15)),COUNTIF(Remed,"<"&Remed),0)),"")} | G6: =IFERROR(VLOOKUP(F6,T$2:V$41,2,FALSE),"") | H6: =IFERROR(75+((G6-G$42)/(G$43-G$42)*(X$2-75)),"0") -> 0 | I6: =IFERROR((E6+H6)/2,"") | J6: =IFERROR(ROUND(I6,0),"") | N6: 5 | Q6: PAS | S6: 5 | V6: REMED | Z6: 5 | AA6: FEBBY VIOLETA RENNES GALA BINTANG | AB6: =IFERROR(VLOOKUP(AA6,O$2:Q$41,3,FALSE),"") | AC6: =IFERROR(VLOOKUP(AA6,T$2:V$41,3,FALSE),"") | AD6: =IF(AB6="PAS","","Tidak PAS")& " " &IF(AC6="REMED","","Tidak Remed") -> Tidak PAS Tidak Remed | AF6: NAMA | AG6: ADE JOHANDI DAMANIK, S.Pd
A7: 6 | B7: {=IFERROR(INDEX(data,MATCH(SMALL(COUNTIF(data,"<"&data),ROW(7:16)),COUNTIF(data,"<"&data),0)),"")} | C7: 75 | D7: =IFERROR(VLOOKUP(B7,O$2:Q$41,2,FALSE),"0") -> 0 | E7: =IFERROR(75+((D7-D$42)/(D$43-D$42)*(X$2-75)),"") | F7: {=IFERROR(INDEX(Remed,MATCH(SMALL(COUNTIF(Remed,"<"&Remed),ROW(7:16)),COUNTIF(Remed,"<"&Remed),0)),"")} | G7: =IFERROR(VLOOKUP(F7,T$2:V$41,2,FALSE),"") | H7: =IFERROR(75+((G7-G$42)/(G$43-G$42)*(X$2-75)),"0") -> 0 | I7: =IFERROR((E7+H7)/2,"") | J7: =IFERROR(ROUND(I7,0),"") | N7: 6 | Q7: PAS | S7: 6 | V7: REMED | Z7: 6 | AA7: FERIYANANI SIREGAR | AB7: =IFERROR(VLOOKUP(AA7,O$2:Q$41,3,FALSE),"") | AC7: =IFERROR(VLOOKUP(AA7,T$2:V$41,3,FALSE),"") | AD7: =IF(AB7="PAS","","Tidak PAS")& " " &IF(AC7="REMED","","Tidak Remed") -> Tidak PAS Tidak Remed | AF7: NIP | AG7: 19910427 201903 1 011
A8: 7 | B8: {=IFERROR(INDEX(data,MATCH(SMALL(COUNTIF(data,"<"&data),ROW(8:17)),COUNTIF(data,"<"&data),0)),"")} | C8: 75 | D8: =IFERROR(VLOOKUP(B8,O$2:Q$41,2,FALSE),"0") -> 0 | E8: =IFERROR(75+((D8-D$42)/(D$43-D$42)*(X$2-75)),"") | F8: {=IFERROR(INDEX(Remed,MATCH(SMALL(COUNTIF(Remed,"<"&Remed),ROW(8:17)),COUNTIF(Remed,"<"&Remed),0)),"")} | G8: =IFERROR(VLOOKUP(F8,T$2:V$41,2,FALSE),"") | H8: =IFERROR(75+((G8-G$42)/(G$43-G$42)*(X$2-75)),"0") -> 0 | I8: =IFERROR((E8+H8)/2,"") | J8: =IFERROR(ROUND(I8,0),"") | N8: 7 | Q8: PAS | S8: 7 | V8: REMED | Z8: 7 | AA8: HUSNI PADILA NASUTION | AB8: =IFERROR(VLOOKUP(AA8,O$2:Q$41,3,FALSE),"") | AC8: =IFERROR(VLOOKUP(AA8,T$2:V$41,3,FALSE),"") | AD8: =IF(AB8="PAS","","Tidak PAS")& " " &IF(AC8="REMED","","Tidak Remed") -> Tidak PAS Tidak Remed
A9: 8 | B9: {=IFERROR(INDEX(data,MATCH(SMALL(COUNTIF(data,"<"&data),ROW(9:18)),COUNTIF(data,"<"&data),0)),"")} | C9: 75 | D9: =IFERROR(VLOOKUP(B9,O$2:Q$41,2,FALSE),"0") -> 0 | E9: =IFERROR(75+((D9-D$42)/(D$43-D$42)*(X$2-75)),"") | F9: {=IFERROR(INDEX(Remed,MATCH(SMALL(COUNTIF(Remed,"<"&Remed),ROW(9:18)),COUNTIF(Remed,"<"&Remed),0)),"")} | G9: =IFERROR(VLOOKUP(F9,T$2:V$41,2,FALSE),"") | H9: =IFERROR(75+((G9-G$42)/(G$43-G$42)*(X$2-75)),"0") -> 0 | I9: =IFERROR((E9+H9)/2,"") | J9: =IFERROR(ROUND(I9,0),"") | N9: 8 | Q9: PAS | S9: 8 | V9: REMED | Z9: 8 | AA9: ICHA ARISTA HARAHAP | AB9: =IFERROR(VLOOKUP(AA9,O$2:Q$41,3,FALSE),"") | AC9: =IFERROR(VLOOKUP(AA9,T$2:V$41,3,FALSE),"") | AD9: =IF(AB9="PAS","","Tidak PAS")& " " &IF(AC9="REMED","","Tidak Remed") -> Tidak PAS Tidak Remed
A10: 9 | B10: {=IFERROR(INDEX(data,MATCH(SMALL(COUNTIF(data,"<"&data),ROW(10:19)),COUNTIF(data,"<"&data),0)),"")} | C10: 75 | D10: =IFERROR(VLOOKUP(B10,O$2:Q$41,2,FALSE),"0") -> 0 | E10: =IFERROR(75+((D10-D$42)/(D$43-D$42)*(X$2-75)),"") | F10: {=IFERROR(INDEX(Remed,MATCH(SMALL(COUNTIF(Remed,"<"&Remed),ROW(10:19)),COUNTIF(Remed,"<"&Remed),0)),"")} | G10: =IFERROR(VLOOKUP(F10,T$2:V$41,2,FALSE),"") | H10: =IFERROR(75+((G10-G$42)/(G$43-G$42)*(X$2-75)),"0") -> 0 | I10: =IFERROR((E10+H10)/2,"") | J10: =IFERROR(ROUND(I10,0),"") | N10: 9 | Q10: PAS | S10: 9 | V10: REMED | Z10: 9 | AA10: ILHAM HARAHAP | AB10: =IFERROR(VLOOKUP(AA10,O$2:Q$41,3,FALSE),"") | AC10: =IFERROR(VLOOKUP(AA10,T$2:V$41,3,FALSE),"") | AD10: =IF(AB10="PAS","","Tidak PAS")& " " &IF(AC10="REMED","","Tidak Remed") -> Tidak PAS Tidak Remed
A11: 10 | B11: {=IFERROR(INDEX(data,MATCH(SMALL(COUNTIF(data,"<"&data),ROW(11:20)),COUNTIF(data,"<"&data),0)),"")} | C11: 75 | D11: =IFERROR(VLOOKUP(B11,O$2:Q$41,2,FALSE),"0") -> 0 | E11: =IFERROR(75+((D11-D$42)/(D$43-D$42)*(X$2-75)),"") | F11: {=IFERROR(INDEX(Remed,MATCH(SMALL(COUNTIF(Remed,"<"&Remed),ROW(11:20)),COUNTIF(Remed,"<"&Remed),0)),"")} | G11: =IFERROR(VLOOKUP(F11,T$2:V$41,2,FALSE),"") | H11: =IFERROR(75+((G11-G$42)/(G$43-G$42)*(X$2-75)),"0") -> 0 | I11: =IFERROR((E11+H11)/2,"") | J11: =IFERROR(ROUND(I11,0),"") | N11: 10 | Q11: PAS | S11: 10 | V11: REMED | Z11: 10 | AA11: INDRI DEVITA SARI TAMBUNAN | AB11: =IFERROR(VLOOKUP(AA11,O$2:Q$41,3,FALSE),"") | AC11: =IFERROR(VLOOKUP(AA11,T$2:V$41,3,FALSE),"") | AD11: =IF(AB11="PAS","","Tidak PAS")& " " &IF(AC11="REMED","","Tidak Remed") -> Tidak PAS Tidak Remed
A12: 11 | B12: {=IFERROR(INDEX(data,MATCH(SMALL(COUNTIF(data,"<"&data),ROW(12:21)),COUNTIF(data,"<"&data),0)),"")} | C12: 75 | D12: =IFERROR(VLOOKUP(B12,O$2:Q$41,2,FALSE),"0") -> 0 | E12: =IFERROR(75+((D12-D$42)/(D$43-D$42)*(X$2-75)),"") | F12: {=IFERROR(INDEX(Remed,MATCH(SMALL(COUNTIF(Remed,"<"&Remed),ROW(12:21)),COUNTIF(Remed,"<"&Remed),0)),"")} | G12: =IFERROR(VLOOKUP(F12,T$2:V$41,2,FALSE),"") | H12: =IFERROR(75+((G12-G$42)/(G$43-G$42)*(X$2-75)),"0") -> 0 | I12: =IFERROR((E12+H12)/2,"") | J12: =IFERROR(ROUND(I12,0),"") | N12: 11 | Q12: PAS | S12: 11 | V12: REMED | Z12: 11 | AA12: IQBAL HASIAN HARAHAP | AB12: =IFERROR(VLOOKUP(AA12,O$2:Q$41,3,FALSE),"") | AC12: =IFERROR(VLOOKUP(AA12,T$2:V$41,3,FALSE),"") | AD12: =IF(AB12="PAS","","Tidak PAS")& " " &IF(AC12="REMED","","Tidak Remed") -> Tidak PAS Tidak Remed
A13: 12 | B13: {=IFERROR(INDEX(data,MATCH(SMALL(COUNTIF(data,"<"&data),ROW(13:22)),COUNTIF(data,"<"&data),0)),"")} | C13: 75 | D13: =IFERROR(VLOOKUP(B13,O$2:Q$41,2,FALSE),"0") -> 0 | E13: =IFERROR(75+((D13-D$42)/(D$43-D$42)*(X$2-75)),"") | F13: {=IFERROR(INDEX(Remed,MATCH(SMALL(COUNTIF(Remed,"<"&Remed),ROW(13:22)),COUNTIF(Remed,"<"&Remed),0)),"")} | G13: =IFERROR(VLOOKUP(F13,T$2:V$41,2,FALSE),"") | H13: =IFERROR(75+((G13-G$42)/(G$43-G$42)*(X$2-75)),"0") -> 0 | I13: =IFERROR((E13+H13)/2,"") | J13: =IFERROR(ROUND(I13,0),"") | N13: 12 | Q13: PAS | S13: 12 | V13: REMED | Z13: 12 | AA13: IQBAL MAULANA HASIBUAN | AB13: =IFERROR(VLOOKUP(AA13,O$2:Q$41,3,FALSE),"") | AC13: =IFERROR(VLOOKUP(AA13,T$2:V$41,3,FALSE),"") | AD13: =IF(AB13="PAS","","Tidak PAS")& " " &IF(AC13="REMED","","Tidak Remed") -> Tidak PAS Tidak Remed
A14: 13 | B14: {=IFERROR(INDEX(data,MATCH(SMALL(COUNTIF(data,"<"&data),ROW(14:23)),COUNTIF(data,"<"&data),0)),"")} | C14: 75 | D14: =IFERROR(VLOOKUP(B14,O$2:Q$41,2,FALSE),"0") -> 0 | E14: =IFERROR(75+((D14-D$42)/(D$43-D$42)*(X$2-75)),"") | F14: {=IFERROR(INDEX(Remed,MATCH(SMALL(COUNTIF(Remed,"<"&Remed),ROW(14:23)),COUNTIF(Remed,"<"&Remed),0)),"")} | G14: =IFERROR(VLOOKUP(F14,T$2:V$41,2,FALSE),"") | H14: =IFERROR(75+((G14-G$42)/(G$43-G$42)*(X$2-75)),"0") -> 0 | I14: =IFERROR((E14+H14)/2,"") | J14: =IFERROR(ROUND(I14,0),"") | N14: 13 | Q14: PAS | S14: 13 | V14: REMED | Z14: 13 | AA14: JAHRATU SAFARA HARAHAP | AB14: =IFERROR(VLOOKUP(AA14,O$2:Q$41,3,FALSE),"") | AC14: =IFERROR(VLOOKUP(AA14,T$2:V$41,3,FALSE),"") | AD14: =IF(AB14="PAS","","Tidak PAS")& " " &IF(AC14="REMED","","Tidak Remed") -> Tidak PAS Tidak Remed
A15: 14 | B15: {=IFERROR(INDEX(data,MATCH(SMALL(COUNTIF(data,"<"&data),ROW(15:24)),COUNTIF(data,"<"&data),0)),"")} | C15: 75 | D15: =IFERROR(VLOOKUP(B15,O$2:Q$41,2,FALSE),"0") -> 0 | E15: =IFERROR(75+((D15-D$42)/(D$43-D$42)*(X$2-75)),"") | F15: {=IFERROR(INDEX(Remed,MATCH(SMALL(COUNTIF(Remed,"<"&Remed),ROW(15:24)),COUNTIF(Remed,"<"&Remed),0)),"")} | G15: =IFERROR(VLOOKUP(F15,T$2:V$41,2,FALSE),"") | H15: =IFERROR(75+((G15-G$42)/(G$43-G$42)*(X$2-75)),"0") -> 0 | I15: =IFERROR((E15+H15)/2,"") | J15: =IFERROR(ROUND(I15,0),"") | N15: 14 | Q15: PAS | S15: 14 | V15: REMED | Z15: 14 | AA15: KIRANA SIREGAR | AB15: =IFERROR(VLOOKUP(AA15,O$2:Q$41,3,FALSE),"") | AC15: =IFERROR(VLOOKUP(AA15,T$2:V$41,3,FALSE),"") | AD15: =IF(AB15="PAS","","Tidak PAS")& " " &IF(AC15="REMED","","Tidak Remed") -> Tidak PAS Tidak Remed
A16: 15 | B16: {=IFERROR(INDEX(data,MATCH(SMALL(COUNTIF(data,"<"&data),ROW(16:25)),COUNTIF(data,"<"&data),0)),"")} | C16: 75 | D16: =IFERROR(VLOOKUP(B16,O$2:Q$41,2,FALSE),"0") -> 0 | E16: =IFERROR(75+((D16-D$42)/(D$43-D$42)*(X$2-75)),"") | F16: {=IFERROR(INDEX(Remed,MATCH(SMALL(COUNTIF(Remed,"<"&Remed),ROW(16:25)),COUNTIF(Remed,"<"&Remed),0)),"")} | G16: =IFERROR(VLOOKUP(F16,T$2:V$41,2,FALSE),"") | H16: =IFERROR(75+((G16-G$42)/(G$43-G$42)*(X$2-75)),"0") -> 0 | I16: =IFERROR((E16+H16)/2,"") | J16: =IFERROR(ROUND(I16,0),"") | N16: 15 | Q16: PAS | S16: 15 | V16: REMED | Z16: 15 | AA16: MAULIDA HAFNI SIMBOLON | AB16: =IFERROR(VLOOKUP(AA16,O$2:Q$41,3,FALSE),"") | AC16: =IFERROR(VLOOKUP(AA16,T$2:V$41,3,FALSE),"") | AD16: =IF(AB16="PAS","","Tidak PAS")& " " &IF(AC16="REMED","","Tidak Remed") -> Tidak PAS Tidak Remed
A17: 16 | B17: {=IFERROR(INDEX(data,MATCH(SMALL(COUNTIF(data,"<"&data),ROW(17:26)),COUNTIF(data,"<"&data),0)),"")} | C17: 75 | D17: =IFERROR(VLOOKUP(B17,O$2:Q$41,2,FALSE),"0") -> 0 | E17: =IFERROR(75+((D17-D$42)/(D$43-D$42)*(X$2-75)),"") | F17: {=IFERROR(INDEX(Remed,MATCH(SMALL(COUNTIF(Remed,"<"&Remed),ROW(17:26)),COUNTIF(Remed,"<"&Remed),0)),"")} | G17: =IFERROR(VLOOKUP(F17,T$2:V$41,2,FALSE),"") | H17: =IFERROR(75+((G17-G$42)/(G$43-G$42)*(X$2-75)),"0") -> 0 | I17: =IFERROR((E17+H17)/2,"") | J17: =IFERROR(ROUND(I17,0),"") | N17: 16 | Q17: PAS | S17: 16 | V17: REMED | Z17: 16 | AA17: MORA HASONANGAN SIREGAR | AB17: =IFERROR(VLOOKUP(AA17,O$2:Q$41,3,FALSE),"") | AC17: =IFERROR(VLOOKUP(AA17,T$2:V$41,3,FALSE),"") | AD17: =IF(AB17="PAS","","Tidak PAS")& " " &IF(AC17="REMED","","Tidak Remed") -> Tidak PAS Tidak Remed
A18: 17 | B18: {=IFERROR(INDEX(data,MATCH(SMALL(COUNTIF(data,"<"&data),ROW(18:27)),COUNTIF(data,"<"&data),0)),"")} | C18: 75 | D18: =IFERROR(VLOOKUP(B18,O$2:Q$41,2,FALSE),"0") -> 0 | E18: =IFERROR(75+((D18-D$42)/(D$43-D$42)*(X$2-75)),"") | F18: {=IFERROR(INDEX(Remed,MATCH(SMALL(COUNTIF(Remed,"<"&Remed),ROW(18:27)),COUNTIF(Remed,"<"&Remed),0)),"")} | G18: =IFERROR(VLOOKUP(F18,T$2:V$41,2,FALSE),"") | H18: =IFERROR(75+((G18-G$42)/(G$43-G$42)*(X$2-75)),"0") -> 0 | I18: =IFERROR((E18+H18)/2,"") | J18: =IFERROR(ROUND(I18,0),"") | N18: 17 | Q18: PAS | S18: 17 | V18: REMED | Z18: 17 | AA18: MUHAMMAD RAULI EFENDI HASIBUAN | AB18: =IFERROR(VLOOKUP(AA18,O$2:Q$41,3,FALSE),"") | AC18: =IFERROR(VLOOKUP(AA18,T$2:V$41,3,FALSE),"") | AD18: =IF(AB18="PAS","","Tidak PAS")& " " &IF(AC18="REMED","","Tidak Remed") -> Tidak PAS Tidak Remed
A19: 18 | B19: {=IFERROR(INDEX(data,MATCH(SMALL(COUNTIF(data,"<"&data),ROW(19:28)),COUNTIF(data,"<"&data),0)),"")} | C19: 75 | D19: =IFERROR(VLOOKUP(B19,O$2:Q$41,2,FALSE),"0") -> 0 | E19: =IFERROR(75+((D19-D$42)/(D$43-D$42)*(X$2-75)),"") | F19: {=IFERROR(INDEX(Remed,MATCH(SMALL(COUNTIF(Remed,"<"&Remed),ROW(19:28)),COUNTIF(Remed,"<"&Remed),0)),"")} | G19: =IFERROR(VLOOKUP(F19,T$2:V$41,2,FALSE),"") | H19: =IFERROR(75+((G19-G$42)/(G$43-G$42)*(X$2-75)),"0") -> 0 | I19: =IFERROR((E19+H19)/2,"") | J19: =IFERROR(ROUND(I19,0),"") | N19: 18 | Q19: PAS | S19: 18 | V19: REMED | Z19: 18 | AA19: NUR HABIBAH POHAN | AB19: =IFERROR(VLOOKUP(AA19,O$2:Q$41,3,FALSE),"") | AC19: =IFERROR(VLOOKUP(AA19,T$2:V$41,3,FALSE),"") | AD19: =IF(AB19="PAS","","Tidak PAS")& " " &IF(AC19="REMED","","Tidak Remed") -> Tidak PAS Tidak Remed
A20: 19 | B20: {=IFERROR(INDEX(data,MATCH(SMALL(COUNTIF(data,"<"&data),ROW(20:29)),COUNTIF(data,"<"&data),0)),"")} | C20: 75 | D20: =IFERROR(VLOOKUP(B20,O$2:Q$41,2,FALSE),"0") -> 0 | E20: =IFERROR(75+((D20-D$42)/(D$43-D$42)*(X$2-75)),"") | F20: {=IFERROR(INDEX(Remed,MATCH(SMALL(COUNTIF(Remed,"<"&Remed),ROW(20:29)),COUNTIF(Remed,"<"&Remed),0)),"")} | G20: =IFERROR(VLOOKUP(F20,T$2:V$41,2,FALSE),"") | H20: =IFERROR(75+((G20-G$42)/(G$43-G$42)*(X$2-75)),"0") -> 0 | I20: =IFERROR((E20+H20)/2,"") | J20: =IFERROR(ROUND(I20,0),"") | N20: 19 | Q20: PAS | S20: 19 | V20: REMED | Z20: 19 | AA20: PARHAN MULIA HARAHAP | AB20: =IFERROR(VLOOKUP(AA20,O$2:Q$41,3,FALSE),"") | AC20: =IFERROR(VLOOKUP(AA20,T$2:V$41,3,FALSE),"") | AD20: =IF(AB20="PAS","","Tidak PAS")& " " &IF(AC20="REMED","","Tidak Remed") -> Tidak PAS Tidak Remed
A21: 20 | B21: {=IFERROR(INDEX(data,MATCH(SMALL(COUNTIF(data,"<"&data),ROW(21:30)),COUNTIF(data,"<"&data),0)),"")} | C21: 75 | D21: =IFERROR(VLOOKUP(B21,O$2:Q$41,2,FALSE),"0") -> 0 | E21: =IFERROR(75+((D21-D$42)/(D$43-D$42)*(X$2-75)),"") | F21: {=IFERROR(INDEX(Remed,MATCH(SMALL(COUNTIF(Remed,"<"&Remed),ROW(21:30)),COUNTIF(Remed,"<"&Remed),0)),"")} | G21: =IFERROR(VLOOKUP(F21,T$2:V$41,2,FALSE),"") | H21: =IFERROR(75+((G21-G$42)/(G$43-G$42)*(X$2-75)),"0") -> 0 | I21: =IFERROR((E21+H21)/2,"") | J21: =IFERROR(ROUND(I21,0),"") | N21: 20 | Q21: PAS | S21: 20 | V21: REMED | Z21: 20 | AA21: PARULIAN POHAN | AB21: =IFERROR(VLOOKUP(AA21,O$2:Q$41,3,FALSE),"") | AC21: =IFERROR(VLOOKUP(AA21,T$2:V$41,3,FALSE),"") | AD21: =IF(AB21="PAS","","Tidak PAS")& " " &IF(AC21="REMED","","Tidak Remed") -> Tidak PAS Tidak Remed
A22: 21 | B22: {=IFERROR(INDEX(data,MATCH(SMALL(COUNTIF(data,"<"&data),ROW(22:31)),COUNTIF(data,"<"&data),0)),"")} | C22: 75 | D22: =IFERROR(VLOOKUP(B22,O$2:Q$41,2,FALSE),"0") -> 0 | E22: =IFERROR(75+((D22-D$42)/(D$43-D$42)*(X$2-75)),"") | F22: {=IFERROR(INDEX(Remed,MATCH(SMALL(COUNTIF(Remed,"<"&Remed),ROW(22:31)),COUNTIF(Remed,"<"&Remed),0)),"")} | G22: =IFERROR(VLOOKUP(F22,T$2:V$41,2,FALSE),"") | H22: =IFERROR(75+((G22-G$42)/(G$43-G$42)*(X$2-75)),"0") -> 0 | I22: =IFERROR((E22+H22)/2,"") | J22: =IFERROR(ROUND(I22,0),"") | N22: 21 | Q22: PAS | S22: 21 | V22: REMED | Z22: 21 | AA22: RAHMAD FITRA SIREGAR | AB22: =IFERROR(VLOOKUP(AA22,O$2:Q$41,3,FALSE),"") | AC22: =IFERROR(VLOOKUP(AA22,T$2:V$41,3,FALSE),"") | AD22: =IF(AB22="PAS","","Tidak PAS")& " " &IF(AC22="REMED","","Tidak Remed") -> Tidak PAS Tidak Remed
A23: 22 | B23: {=IFERROR(INDEX(data,MATCH(SMALL(COUNTIF(data,"<"&data),ROW(23:32)),COUNTIF(data,"<"&data),0)),"")} | C23: 75 | D23: =IFERROR(VLOOKUP(B23,O$2:Q$41,2,FALSE),"0") -> 0 | E23: =IFERROR(75+((D23-D$42)/(D$43-D$42)*(X$2-75)),"") | F23: {=IFERROR(INDEX(Remed,MATCH(SMALL(COUNTIF(Remed,"<"&Remed),ROW(23:32)),COUNTIF(Remed,"<"&Remed),0)),"")} | G23: =IFERROR(VLOOKUP(F23,T$2:V$41,2,FALSE),"") | H23: =IFERROR(75+((G23-G$42)/(G$43-G$42)*(X$2-75)),"0") -> 0 | I23: =IFERROR((E23+H23)/2,"") | J23: =IFERROR(ROUND(I23,0),"") | N23: 22 | Q23: PAS | S23: 22 | V23: REMED | Z23: 22 | AA23: REZARAHMANSYAH | AB23: =IFERROR(VLOOKUP(AA23,O$2:Q$41,3,FALSE),"") | AC23: =IFERROR(VLOOKUP(AA23,T$2:V$41,3,FALSE),"") | AD23: =IF(AB23="PAS","","Tidak PAS")& " " &IF(AC23="REMED","","Tidak Remed") -> Tidak PAS Tidak Remed
A24: 23 | B24: {=IFERROR(INDEX(data,MATCH(SMALL(COUNTIF(data,"<"&data),ROW(24:33)),COUNTIF(data,"<"&data),0)),"")} | C24: 75 | D24: =IFERROR(VLOOKUP(B24,O$2:Q$41,2,FALSE),"0") -> 0 | E24: =IFERROR(75+((D24-D$42)/(D$43-D$42)*(X$2-75)),"") | F24: {=IFERROR(INDEX(Remed,MATCH(SMALL(COUNTIF(Remed,"<"&Remed),ROW(24:33)),COUNTIF(Remed,"<"&Remed),0)),"")} | G24: =IFERROR(VLOOKUP(F24,T$2:V$41,2,FALSE),"") | H24: =IFERROR(75+((G24-G$42)/(G$43-G$42)*(X$2-75)),"0") -> 0 | I24: =IFERROR((E24+H24)/2,"") | J24: =IFERROR(ROUND(I24,0),"") | N24: 23 | Q24: PAS | S24: 23 | V24: REMED | Z24: 23 | AA24: RHIFANSYAH HARAHAP | AB24: =IFERROR(VLOOKUP(AA24,O$2:Q$41,3,FALSE),"") | AC24: =IFERROR(VLOOKUP(AA24,T$2:V$41,3,FALSE),"") | AD24: =IF(AB24="PAS","","Tidak PAS")& " " &IF(AC24="REMED","","Tidak Remed") -> Tidak PAS Tidak Remed
A25: 24 | B25: {=IFERROR(INDEX(data,MATCH(SMALL(COUNTIF(data,"<"&data),ROW(25:34)),COUNTIF(data,"<"&data),0)),"")} | C25: 75 | D25: =IFERROR(VLOOKUP(B25,O$2:Q$41,2,FALSE),"0") -> 0 | E25: =IFERROR(75+((D25-D$42)/(D$43-D$42)*(X$2-75)),"") | F25: {=IFERROR(INDEX(Remed,MATCH(SMALL(COUNTIF(Remed,"<"&Remed),ROW(25:34)),COUNTIF(Remed,"<"&Remed),0)),"")} | G25: =IFERROR(VLOOKUP(F25,T$2:V$41,2,FALSE),"") | H25: =IFERROR(75+((G25-G$42)/(G$43-G$42)*(X$2-75)),"0") -> 0 | I25: =IFERROR((E25+H25)/2,"") | J25: =IFERROR(ROUND(I25,0),"") | N25: 24 | Q25: PAS | S25: 24 | V25: REMED | Z25: 24 | AA25: RIJAL | AB25: =IFERROR(VLOOKUP(AA25,O$2:Q$41,3,FALSE),"") | AC25: =IFERROR(VLOOKUP(AA25,T$2:V$41,3,FALSE),"") | AD25: =IF(AB25="PAS","","Tidak PAS")& " " &IF(AC25="REMED","","Tidak Remed") -> Tidak PAS Tidak Remed
A26: 25 | B26: {=IFERROR(INDEX(data,MATCH(SMALL(COUNTIF(data,"<"&data),ROW(26:35)),COUNTIF(data,"<"&data),0)),"")} | C26: 75 | D26: =IFERROR(VLOOKUP(B26,O$2:Q$41,2,FALSE),"0") -> 0 | E26: =IFERROR(75+((D26-D$42)/(D$43-D$42)*(X$2-75)),"") | F26: {=IFERROR(INDEX(Remed,MATCH(SMALL(COUNTIF(Remed,"<"&Remed),ROW(26:35)),COUNTIF(Remed,"<"&Remed),0)),"")} | G26: =IFERROR(VLOOKUP(F26,T$2:V$41,2,FALSE),"") | H26: =IFERROR(75+((G26-G$42)/(G$43-G$42)*(X$2-75)),"0") -> 0 | I26: =IFERROR((E26+H26)/2,"") | J26: =IFERROR(ROUND(I26,0),"") | N26: 25 | Q26: PAS | S26: 25 | V26: REMED | Z26: 25 | AA26: RISKA SIREGAR | AB26: =IFERROR(VLOOKUP(AA26,O$2:Q$41,3,FALSE),"") | AC26: =IFERROR(VLOOKUP(AA26,T$2:V$41,3,FALSE),"") | AD26: =IF(AB26="PAS","","Tidak PAS")& " " &IF(AC26="REMED","","Tidak Remed") -> Tidak PAS Tidak Remed
A27: 26 | B27: {=IFERROR(INDEX(data,MATCH(SMALL(COUNTIF(data,"<"&data),ROW(27:36)),COUNTIF(data,"<"&data),0)),"")} | C27: 75 | D27: =IFERROR(VLOOKUP(B27,O$2:Q$41,2,FALSE),"0") -> 0 | E27: =IFERROR(75+((D27-D$42)/(D$43-D$42)*(X$2-75)),"") | F27: {=IFERROR(INDEX(Remed,MATCH(SMALL(COUNTIF(Remed,"<"&Remed),ROW(27:36)),COUNTIF(Remed,"<"&Remed),0)),"")} | G27: =IFERROR(VLOOKUP(F27,T$2:V$41,2,FALSE),"") | H27: =IFERROR(75+((G27-G$42)/(G$43-G$42)*(X$2-75)),"0") -> 0 | I27: =IFERROR((E27+H27)/2,"") | J27: =IFERROR(ROUND(I27,0),"") | N27: 26 | Q27: PAS | S27: 26 | V27: REMED | Z27: 26 | AA27: RIZKY MAULANA TARIHORAN | AB27: =IFERROR(VLOOKUP(AA27,O$2:Q$41,3,FALSE),"") | AC27: =IFERROR(VLOOKUP(AA27,T$2:V$41,3,FALSE),"") | AD27: =IF(AB27="PAS","","Tidak PAS")& " " &IF(AC27="REMED","","Tidak Remed") -> Tidak PAS Tidak Remed
A28: 27 | B28: {=IFERROR(INDEX(data,MATCH(SMALL(COUNTIF(data,"<"&data),ROW(28:37)),COUNTIF(data,"<"&data),0)),"")} | C28: 75 | D28: =IFERROR(VLOOKUP(B28,O$2:Q$41,2,FALSE),"0") -> 0 | E28: =IFERROR(75+((D28-D$42)/(D$43-D$42)*(X$2-75)),"") | F28: {=IFERROR(INDEX(Remed,MATCH(SMALL(COUNTIF(Remed,"<"&Remed),ROW(28:37)),COUNTIF(Remed,"<"&Remed),0)),"")} | G28: =IFERROR(VLOOKUP(F28,T$2:V$41,2,FALSE),"") | H28: =IFERROR(75+((G28-G$42)/(G$43-G$42)*(X$2-75)),"0") -> 0 | I28: =IFERROR((E28+H28)/2,"") | J28: =IFERROR(ROUND(I28,0),"") | N28: 27 | Q28: PAS | S28: 27 | V28: REMED | Z28: 27 | AA28: SAFA'AT MUBAROK HSB | AB28: =IFERROR(VLOOKUP(AA28,O$2:Q$41,3,FALSE),"") | AC28: =IFERROR(VLOOKUP(AA28,T$2:V$41,3,FALSE),"") | AD28: =IF(AB28="PAS","","Tidak PAS")& " " &IF(AC28="REMED","","Tidak Remed") -> Tidak PAS Tidak Remed
A29: 28 | B29: {=IFERROR(INDEX(data,MATCH(SMALL(COUNTIF(data,"<"&data),ROW(29:38)),COUNTIF(data,"<"&data),0)),"")} | C29: 75 | D29: =IFERROR(VLOOKUP(B29,O$2:Q$41,2,FALSE),"0") -> 0 | E29: =IFERROR(75+((D29-D$42)/(D$43-D$42)*(X$2-75)),"") | F29: {=IFERROR(INDEX(Remed,MATCH(SMALL(COUNTIF(Remed,"<"&Remed),ROW(29:38)),COUNTIF(Remed,"<"&Remed),0)),"")} | G29: =IFERROR(VLOOKUP(F29,T$2:V$41,2,FALSE),"") | H29: =IFERROR(75+((G29-G$42)/(G$43-G$42)*(X$2-75)),"0") -> 0 | I29: =IFERROR((E29+H29)/2,"") | J29: =IFERROR(ROUND(I29,0),"") | N29: 28 | Q29: PAS | S29: 28 | V29: REMED | Z29: 28 | AA29: SELPIANI HARAHAP | AB29: =IFERROR(VLOOKUP(AA29,O$2:Q$41,3,FALSE),"") | AC29: =IFERROR(VLOOKUP(AA29,T$2:V$41,3,FALSE),"") | AD29: =IF(AB29="PAS","","Tidak PAS")& " " &IF(AC29="REMED","","Tidak Remed") -> Tidak PAS Tidak Remed
A30: 29 | B30: {=IFERROR(INDEX(data,MATCH(SMALL(COUNTIF(data,"<"&data),ROW(30:39)),COUNTIF(data,"<"&data),0)),"")} | C30: 75 | D30: =IFERROR(VLOOKUP(B30,O$2:Q$41,2,FALSE),"0") -> 0 | E30: =IFERROR(75+((D30-D$42)/(D$43-D$42)*(X$2-75)),"") | F30: {=IFERROR(INDEX(Remed,MATCH(SMALL(COUNTIF(Remed,"<"&Remed),ROW(30:39)),COUNTIF(Remed,"<"&Remed),0)),"")} | G30: =IFERROR(VLOOKUP(F30,T$2:V$41,2,FALSE),"") | H30: =IFERROR(75+((G30-G$42)/(G$43-G$42)*(X$2-75)),"0") -> 0 | I30: =IFERROR((E30+H30)/2,"") | J30: =IFERROR(ROUND(I30,0),"") | N30: 29 | Q30: PAS | S30: 29 | V30: REMED | Z30: 29 | AA30: SELVY ADHELINA SIREGAR | AB30: =IFERROR(VLOOKUP(AA30,O$2:Q$41,3,FALSE),"") | AC30: =IFERROR(VLOOKUP(AA30,T$2:V$41,3,FALSE),"") | AD30: =IF(AB30="PAS","","Tidak PAS")& " " &IF(AC30="REMED","","Tidak Remed") -> Tidak PAS Tidak Remed
A31: 30 | B31: {=IFERROR(INDEX(data,MATCH(SMALL(COUNTIF(data,"<"&data),ROW(31:40)),COUNTIF(data,"<"&data),0)),"")} | C31: 75 | D31: =IFERROR(VLOOKUP(B31,O$2:Q$41,2,FALSE),"0") -> 0 | E31: =IFERROR(75+((D31-D$42)/(D$43-D$42)*(X$2-75)),"") | F31: {=IFERROR(INDEX(Remed,MATCH(SMALL(COUNTIF(Remed,"<"&Remed),ROW(31:40)),COUNTIF(Remed,"<"&Remed),0)),"")} | G31: =IFERROR(VLOOKUP(F31,T$2:V$41,2,FALSE),"") | H31: =IFERROR(75+((G31-G$42)/(G$43-G$42)*(X$2-75)),"0") -> 0 | I31: =IFERROR((E31+H31)/2,"") | J31: =IFERROR(ROUND(I31,0),"") | N31: 30 | Q31: PAS | S31: 30 | V31: REMED | Z31: 30 | AA31: SYAFITRI NASUTION | AB31: =IFERROR(VLOOKUP(AA31,O$2:Q$41,3,FALSE),"") | AC31: =IFERROR(VLOOKUP(AA31,T$2:V$41,3,FALSE),"") | AD31: =IF(AB31="PAS","","Tidak PAS")& " " &IF(AC31="REMED","","Tidak Remed") -> Tidak PAS Tidak Remed
A32: 31 | B32: {=IFERROR(INDEX(data,MATCH(SMALL(COUNTIF(data,"<"&data),ROW(32:41)),COUNTIF(data,"<"&data),0)),"")} | C32: 75 | D32: =IFERROR(VLOOKUP(B32,O$2:Q$41,2,FALSE),"0") -> 0 | E32: =IFERROR(75+((D32-D$42)/(D$43-D$42)*(X$2-75)),"") | F32: {=IFERROR(INDEX(Remed,MATCH(SMALL(COUNTIF(Remed,"<"&Remed),ROW(32:41)),COUNTIF(Remed,"<"&Remed),0)),"")} | G32: =IFERROR(VLOOKUP(F32,T$2:V$41,2,FALSE),"") | H32: =IFERROR(75+((G32-G$42)/(G$43-G$42)*(X$2-75)),"0") -> 0 | I32: =IFERROR((E32+H32)/2,"") | J32: =IFERROR(ROUND(I32,0),"") | N32: 31 | Q32: PAS | S32: 31 | V32: REMED | Z32: 31 | AA32: TONGKU SAPUTRA HARAHAP | AB32: =IFERROR(VLOOKUP(AA32,O$2:Q$41,3,FALSE),"") | AC32: =IFERROR(VLOOKUP(AA32,T$2:V$41,3,FALSE),"") | AD32: =IF(AB32="PAS","","Tidak PAS")& " " &IF(AC32="REMED","","Tidak Remed") -> Tidak PAS Tidak Remed
A33: 32 | B33: {=IFERROR(INDEX(data,MATCH(SMALL(COUNTIF(data,"<"&data),ROW(33:42)),COUNTIF(data,"<"&data),0)),"")} | C33: 75 | D33: =IFERROR(VLOOKUP(B33,O$2:Q$41,2,FALSE),"0") -> 0 | E33: =IFERROR(75+((D33-D$42)/(D$43-D$42)*(X$2-75)),"") | F33: {=IFERROR(INDEX(Remed,MATCH(SMALL(COUNTIF(Remed,"<"&Remed),ROW(33:42)),COUNTIF(Remed,"<"&Remed),0)),"")} | G33: =IFERROR(VLOOKUP(F33,T$2:V$41,2,FALSE),"") | H33: =IFERROR(75+((G33-G$42)/(G$43-G$42)*(X$2-75)),"0") -> 0 | I33: =IFERROR((E33+H33)/2,"") | J33: =IFERROR(ROUND(I33,0),"") | N33: 32 | Q33: PAS | S33: 32 | V33: REMED | Z33: 32 | AA33: UCOK LUBIS | AB33: =IFERROR(VLOOKUP(AA33,O$2:Q$41,3,FALSE),"") | AC33: =IFERROR(VLOOKUP(AA33,T$2:V$41,3,FALSE),"") | AD33: =IF(AB33="PAS","","Tidak PAS")& " " &IF(AC33="REMED","","Tidak Remed") -> Tidak PAS Tidak Remed
A34: 33 | B34: {=IFERROR(INDEX(data,MATCH(SMALL(COUNTIF(data,"<"&data),ROW(34:43)),COUNTIF(data,"<"&data),0)),"")} | C34: 75 | D34: =IFERROR(VLOOKUP(B34,O$2:Q$41,2,FALSE),"0") -> 0 | E34: =IFERROR(75+((D34-D$42)/(D$43-D$42)*(X$2-75)),"") | F34: {=IFERROR(INDEX(Remed,MATCH(SMALL(COUNTIF(Remed,"<"&Remed),ROW(34:43)),COUNTIF(Remed,"<"&Remed),0)),"")} | G34: =IFERROR(VLOOKUP(F34,T$2:V$41,2,FALSE),"") | H34: =IFERROR(75+((G34-G$42)/(G$43-G$42)*(X$2-75)),"0") -> 0 | I34: =IFERROR((E34+H34)/2,"") | J34: =IFERROR(ROUND(I34,0),"") | N34: 33 | Q34: PAS | S34: 33 | V34: REMED | Z34: 33 | AA34: WILHAN BANGUN PAUJAN HARAHAP | AB34: =IFERROR(VLOOKUP(AA34,O$2:Q$41,3,FALSE),"") | AC34: =IFERROR(VLOOKUP(AA34,T$2:V$41,3,FALSE),"") | AD34: =IF(AB34="PAS","","Tidak PAS")& " " &IF(AC34="REMED","","Tidak Remed") -> Tidak PAS Tidak Remed
A35: 34 | B35: {=IFERROR(INDEX(data,MATCH(SMALL(COUNTIF(data,"<"&data),ROW(35:44)),COUNTIF(data,"<"&data),0)),"")} | C35: 75 | D35: =IFERROR(VLOOKUP(B35,O$2:Q$41,2,FALSE),"0") -> 0 | E35: =IFERROR(75+((D35-D$42)/(D$43-D$42)*(X$2-75)),"") | F35: {=IFERROR(INDEX(Remed,MATCH(SMALL(COUNTIF(Remed,"<"&Remed),ROW(35:44)),COUNTIF(Remed,"<"&Remed),0)),"")} | G35: =IFERROR(VLOOKUP(F35,T$2:V$41,2,FALSE),"") | H35: =IFERROR(75+((G35-G$42)/(G$43-G$42)*(X$2-75)),"0") -> 0 | I35: =IFERROR((E35+H35)/2,"") | J35: =IFERROR(ROUND(I35,0),"") | N35: 34 | Q35: PAS | S35: 34 | V35: REMED | Z35: 34 | AA35: ZAIRAH MADIYAMI NASUTION | AB35: =IFERROR(VLOOKUP(AA35,O$2:Q$41,3,FALSE),"") | AC35: =IFERROR(VLOOKUP(AA35,T$2:V$41,3,FALSE),"") | AD35: =IF(AB35="PAS","","Tidak PAS")& " " &IF(AC35="REMED","","Tidak Remed") -> Tidak PAS Tidak Remed
A36: 35 | B36: {=IFERROR(INDEX(data,MATCH(SMALL(COUNTIF(data,"<"&data),ROW(36:45)),COUNTIF(data,"<"&data),0)),"")} | C36: 75 | D36: =IFERROR(VLOOKUP(B36,O$2:Q$41,2,FALSE),"") | E36: =IFERROR(75+((D36-D$42)/(D$43-D$42)*(X$2-75)),"") | F36: {=IFERROR(INDEX(Remed,MATCH(SMALL(COUNTIF(Remed,"<"&Remed),ROW(36:45)),COUNTIF(Remed,"<"&Remed),0)),"")} | G36: =IFERROR(VLOOKUP(F36,T$2:V$41,2,FALSE),"") | H36: =IFERROR(75+((G36-G$42)/(G$43-G$42)*(X$2-75)),"") | I36: =IFERROR((E36+H36)/2,"") | J36: =IFERROR(ROUND(I36,0),"") | N36: 35 | Q36: PAS | S36: 35 | V36: REMED | Z36: 35 | AB36: =IFERROR(VLOOKUP(AA36,O$2:Q$41,3,FALSE),"") | AC36: =IFERROR(VLOOKUP(AA36,T36:V75,3,FALSE),"") | AD36: =IF(AB36="PAS","","Tidak PAS")& " " &IF(AC36="REMED","","Tidak Remed") -> Tidak PAS Tidak Remed
A37: 36 | B37: {=IFERROR(INDEX(data,MATCH(SMALL(COUNTIF(data,"<"&data),ROW(37:46)),COUNTIF(data,"<"&data),0)),"")} | C37: 75 | D37: =IFERROR(VLOOKUP(B37,O$2:Q$41,2,FALSE),"") | E37: =IFERROR(75+((D37-D$42)/(D$43-D$42)*(X$2-75)),"") | F37: {=IFERROR(INDEX(Remed,MATCH(SMALL(COUNTIF(Remed,"<"&Remed),ROW(37:46)),COUNTIF(Remed,"<"&Remed),0)),"")} | G37: =IFERROR(VLOOKUP(F37,T$2:V$41,2,FALSE),"") | H37: =IFERROR(75+((G37-G$42)/(G$43-G$42)*(X$2-75)),"") | I37: =IFERROR((E37+H37)/2,"") | J37: =IFERROR(ROUND(I37,0),"") | N37: 36 | Q37: PAS | S37: 36 | V37: REMED | Z37: 36 | AB37: =IFERROR(VLOOKUP(AA37,O$2:Q$41,3,FALSE),"") | AC37: =IFERROR(VLOOKUP(AA37,T37:V76,3,FALSE),"") | AD37: =IF(AB37="PAS","","Tidak PAS")& " " &IF(AC37="REMED","","Tidak Remed") -> Tidak PAS Tidak Remed
A38: 37 | B38: {=IFERROR(INDEX(data,MATCH(SMALL(COUNTIF(data,"<"&data),ROW(38:47)),COUNTIF(data,"<"&data),0)),"")} | C38: 75 | D38: =IFERROR(VLOOKUP(B38,O$2:Q$41,2,FALSE),"") | E38: =IFERROR(75+((D38-D$42)/(D$43-D$42)*(X$2-75)),"") | F38: {=IFERROR(INDEX(Remed,MATCH(SMALL(COUNTIF(Remed,"<"&Remed),ROW(38:47)),COUNTIF(Remed,"<"&Remed),0)),"")} | G38: =IFERROR(VLOOKUP(F38,T$2:V$41,2,FALSE),"") | H38: =IFERROR(75+((G38-G$42)/(G$43-G$42)*(X$2-75)),"") | I38: =IFERROR((E38+H38)/2,"") | J38: =IFERROR(ROUND(I38,0),"") | N38: 37 | Q38: PAS | S38: 37 | V38: REMED | Z38: 37 | AB38: =IFERROR(VLOOKUP(AA38,O$2:Q$41,3,FALSE),"") | AC38: =IFERROR(VLOOKUP(AA38,T38:V77,3,FALSE),"") | AD38: =IF(AB38="PAS","","Tidak PAS")& " " &IF(AC38="REMED","","Tidak Remed") -> Tidak PAS Tidak Remed
A39: 38 | B39: {=IFERROR(INDEX(data,MATCH(SMALL(COUNTIF(data,"<"&data),ROW(39:48)),COUNTIF(data,"<"&data),0)),"")} | C39: 75 | D39: =IFERROR(VLOOKUP(B39,O$2:Q$41,2,FALSE),"") | E39: =IFERROR(75+((D39-D$42)/(D$43-D$42)*(X$2-75)),"") | F39: {=IFERROR(INDEX(Remed,MATCH(SMALL(COUNTIF(Remed,"<"&Remed),ROW(39:48)),COUNTIF(Remed,"<"&Remed),0)),"")} | G39: =IFERROR(VLOOKUP(F39,T$2:V$41,2,FALSE),"") | H39: =IFERROR(75+((G39-G$42)/(G$43-G$42)*(X$2-75)),"") | I39: =IFERROR((E39+H39)/2,"") | J39: =IFERROR(ROUND(I39,0),"") | N39: 38 | Q39: PAS | S39: 38 | V39: REMED | Z39: 38 | AB39: =IFERROR(VLOOKUP(AA39,O$2:Q$41,3,FALSE),"") | AC39: =IFERROR(VLOOKUP(AA39,T39:V78,3,FALSE),"") | AD39: =IF(AB39="PAS","","Tidak PAS")& " " &IF(AC39="REMED","","Tidak Remed") -> Tidak PAS Tidak Remed
A40: 39 | B40: {=IFERROR(INDEX(data,MATCH(SMALL(COUNTIF(data,"<"&data),ROW(40:49)),COUNTIF(data,"<"&data),0)),"")} | C40: 75 | D40: =IFERROR(VLOOKUP(B40,O$2:Q$41,2,FALSE),"") | E40: =IFERROR(75+((D40-D$42)/(D$43-D$42)*(X$2-75)),"") | F40: {=IFERROR(INDEX(Remed,MATCH(SMALL(COUNTIF(Remed,"<"&Remed),ROW(40:49)),COUNTIF(Remed,"<"&Remed),0)),"")} | G40: =IFERROR(VLOOKUP(F40,T$2:V$41,2,FALSE),"") | H40: =IFERROR(75+((G40-G$42)/(G$43-G$42)*(X$2-75)),"") | I40: =IFERROR((E40+H40)/2,"") | J40: =IFERROR(ROUND(I40,0),"") | N40: 39 | Q40: PAS | S40: 39 | V40: REMED | Z40: 39 | AB40: =IFERROR(VLOOKUP(AA40,O$2:Q$41,3,FALSE),"") | AC40: =IFERROR(VLOOKUP(AA40,T40:V79,3,FALSE),"") | AD40: =IF(AB40="PAS","","Tidak PAS")& " " &IF(AC40="REMED","","Tidak Remed") -> Tidak PAS Tidak Remed
A41: 40 | B41: {=IFERROR(INDEX(data,MATCH(SMALL(COUNTIF(data,"<"&data),ROW(41:50)),COUNTIF(data,"<"&data),0)),"")} | C41: 75 | D41: =IFERROR(VLOOKUP(B41,O$2:Q$41,2,FALSE),"") | E41: =IFERROR(75+((D41-D$42)/(D$43-D$42)*(X$2-75)),"") | F41: {=IFERROR(INDEX(Remed,MATCH(SMALL(COUNTIF(Remed,"<"&Remed),ROW(41:50)),COUNTIF(Remed,"<"&Remed),0)),"")} | G41: =IFERROR(VLOOKUP(F41,T$2:V$41,2,FALSE),"") | H41: =IFERROR(75+((G41-G$42)/(G$43-G$42)*(X$2-75)),"") | I41: =IFERROR((E41+H41)/2,"") | J41: =IFERROR(ROUND(I41,0),"") | N41: 40 | Q41: PAS | S41: 40 | V41: REMED | Z41: 40 | AB41: =IFERROR(VLOOKUP(AA41,O$2:Q$41,3,FALSE),"") | AC41: =IFERROR(VLOOKUP(AA41,T41:V80,3,FALSE),"") | AD41: =IF(AB41="PAS","","Tidak PAS")& " " &IF(AC41="REMED","","Tidak Remed") -> Tidak PAS Tidak Remed
A42: Nilai MIN | D42: =MIN(D2:D41) -> 0 | G42: =MIN(G2:G41) -> 0 | H42: =MIN(H2:H41) -> 0 | I42: =MIN(I2:I41) -> 0 | J42: =MIN(J2:J41) -> 0 | K42: =MIN(K2:K41) -> 0 | L42: =MIN(L2:L41) -> 0 | Z42: 41 | AD42: =IF(AB42=AB42,"PAS","Tidak PAS") -> PAS
A43: Nilai MAX | D43: =MAX(D2:D41) -> 0 | G43: =MAX(G2:G41) -> 0 | H43: =MAX(H2:H41) -> 0 | I43: =MAX(I2:I41) -> 0 | J43: =MAX(J2:J41) -> 0 | K43: =MAX(K2:K41) -> 0 | L43: =MAX(L2:L41) -> 0 | Z43: 42 | AD43: =IF(AB43=AB43,"PAS","Tidak PAS") -> PAS

Sheet Sheet2
A1: No | B1: Nama | C1: KKM | D1: Nilai Asli | E1: Nilai Asli UP | F1: Nilai Remedial/ Pengayaan | G1: Nilai Remedial UP | H1: Hasil Final PAS | J1: Nilai PAS | K1: KKM + (Nilai PAS - Nilai MIN) / (Target Nilai Max - Batas Target Nilai Terendah) * (Nilai Max - KKM)
A2: 1 | B2: AJAN AULIA HARAHAP | C2: 75 | D2: 90 | E2: =75+((D2-D$42)/(D$43-D$42)*(100-75)) -> 97.222222 | F2: 83 | G2: =75+((F2-F$42)/(F$43-F$42)*(90-75)) -> 84.574468 | H2: =AVERAGE(E2,G2) -> 90.898345
A3: 2 | B3: ARDIAN SAPUTRA HARAHAP | C3: 75 | D3: 80 | E3: =75+((D3-D$42)/(D$43-D$42)*(100-75)) -> 94.444444 | F3: 96 | G3: =75+((F3-F$42)/(F$43-F$42)*(90-75)) -> 88.723404 | H3: =AVERAGE(E3,G3) -> 91.583924
A4: 3 | B4: ASWAN HARAHAP | C4: 75 | D4: 30 | E4: =75+((D4-D$42)/(D$43-D$42)*(100-75)) -> 80.555556 | F4: 100 | G4: =75+((F4-F$42)/(F$43-F$42)*(90-75)) -> 90 | H4: =AVERAGE(E4,G4) -> 85.277778
A5: 4 | B5: AYU LESTARI HASIBUAN | C5: 75 | D5: 10 | E5: =75+((D5-D$42)/(D$43-D$42)*(100-75)) -> 75 | F5: 100 | G5: =75+((F5-F$42)/(F$43-F$42)*(90-75)) -> 90 | H5: =AVERAGE(E5,G5) -> 82.5
A6: 5 | B6: AZZUHAN AKBARI SIREGAR | C6: 75 | D6: 76 | E6: =75+((D6-D$42)/(D$43-D$42)*(100-75)) -> 93.333333 | F6: 96 | G6: =75+((F6-F$42)/(F$43-F$42)*(90-75)) -> 88.723404 | H6: =AVERAGE(E6,G6) -> 91.028369
A7: 6 | B7: FAISAL KHADAFI | C7: 75 | D7: 100 | E7: =75+((D7-D$42)/(D$43-D$42)*(100-75)) -> 100 | F7: 100 | G7: =75+((F7-F$42)/(F$43-F$42)*(90-75)) -> 90 | H7: =AVERAGE(E7,G7) -> 95
B8: FRATAMA SYAPUTRA GULTOM | C8: 75 | D8: 40 | E8: =75+((D8-D$42)/(D$43-D$42)*(100-75)) -> 83.333333 | F8: 86 | G8: =75+((F8-F$42)/(F$43-F$42)*(90-75)) -> 85.531915 | H8: =AVERAGE(E8,G8) -> 84.432624
J9: Nilai Remedial | K9: KKM + (Nilai PAS - Nilai MIN) / (Target Nilai Max - Batas Target Nilai Terendah) * (Nilai Max - KKM)
J17: Nilai Akhir PAS | K17: Nilai PAS + Nilai Remedial / 2
B25: RYAN HIDAYAT SIREGAR | C25: 75 | D25: 30 | F25: 86 | H25: =AVERAGE(E25,G25) -> #DIV/0!
B26: SAKINAH HARAHAP | C26: 75 | D26: 43 | F26: 90 | H26: =AVERAGE(E26,G26) -> #DIV/0!
B27: SUCI INDRI WAHYUNI HARAHAP | C27: 75 | D27: 66 | F27: 53 | H27: =AVERAGE(E27,G27) -> #DIV/0!
B28: TATI JUITA HARAHAP | C28: 75 | D28: 46 | F28: 93 | H28: =AVERAGE(E28,G28) -> #DIV/0!
B29: TONDI MARTUA HARAHAP | C29: 75 | D29: 66 | F29: 96 | H29: =AVERAGE(E29,G29) -> #DIV/0!
D30: 70 | H30: =AVERAGE(E30,G30) -> #DIV/0!
D31: 43 | H31: =AVERAGE(E31,G31) -> #DIV/0!
D32: 83
A38: 37 | C38: 75 | E38: =75+((D38-D$42)/(D$43-D$42)*(100-75)) -> 72.222222 | G38: =75+((F38-F$42)/(F$43-F$42)*(90-75)) -> 58.085106
A39: 38 | C39: 75 | E39: =75+((D39-D$42)/(D$43-D$42)*(100-75)) -> 72.222222 | G39: =75+((F39-F$42)/(F$43-F$42)*(90-75)) -> 58.085106
A40: 39 | C40: 75 | E40: =75+((D40-D$42)/(D$43-D$42)*(100-75)) -> 72.222222 | G40: =75+((F40-F$42)/(F$43-F$42)*(90-75)) -> 58.085106
A41: 40 | C41: 75 | E41: =75+((D41-D$42)/(D$43-D$42)*(100-75)) -> 72.222222 | G41: =75+((F41-F$42)/(F$43-F$42)*(90-75)) -> 58.085106
A42: Nilai MIN | D42: =MIN(D2:D41) -> 10 | F42: =MIN(F2:F41) -> 53 | G42: =MIN(G2:G41) -> 58.085106 | H42: =MIN(H2:H41) -> #DIV/0!
A43: Nilai MAX | D43: =MAX(D2:D41) -> 100 | F43: =MAX(F2:F41) -> 100 | G43: =MAX(G2:G41) -> 90 | H43: =MAX(H2:H41) -> #DIV/0!

Sheet Cetak
A1: PENILAIAN PENGETAHUAN (KI 3) | F1: MAPEL | G1: =": "&NILAI!AG3 -> : MATEMATIKA
F2: KELAS | G2: : VII -3
A4: NO | B4: NAMA SIWA | C4: NILAI PAS | D4: NILAI HARIAN 1 | E4: NILAI HARIAN 2 | F4: NILAI AKHIR (RAPOR) | G4: KETERANGAN
A5: =NILAI!A2 -> 1 | B5: =NILAI!AA2 -> ALI AKBAR SIMANJUTTAK | C5: =NILAI!J2 | D5: =NILAI!K2 -> 0 | E5: =NILAI!L2 -> 0 | F5: =ROUND(40%*C5+ 60%*((D5+E5)/2),0) -> #VALUE!
A6: =NILAI!A3 -> 2 | B6: =NILAI!AA3 -> ASYIFA ZAHRA TAMBUNAN | C6: =NILAI!J3 | D6: =NILAI!K3 -> 0 | E6: =NILAI!L3 -> 0 | F6: =ROUND(40%*C6+ 60%*((D6+E6)/2),0) -> #VALUE!
A7: =NILAI!A4 -> 3 | B7: =NILAI!AA4 -> ERLINA HASIBUAN | C7: =NILAI!J4 | D7: =NILAI!K4 -> 0 | E7: =NILAI!L4 -> 0 | F7: =ROUND(40%*C7+ 60%*((D7+E7)/2),0) -> #VALUE!
A8: =NILAI!A5 -> 4 | B8: =NILAI!AA5 -> FADLY GUNAWAN HUTASUHUT | C8: =NILAI!J5 | D8: =NILAI!K5 -> 0 | E8: =NILAI!L5 -> 0 | F8: =ROUND(40%*C8+ 60%*((D8+E8)/2),0) -> #VALUE!
A9: =NILAI!A6 -> 5 | B9: =NILAI!AA6 -> FEBBY VIOLETA RENNES GALA BINTANG | C9: =NILAI!J6 | D9: =NILAI!K6 -> 0 | E9: =NILAI!L6 -> 0 | F9: =ROUND(40%*C9+ 60%*((D9+E9)/2),0) -> #VALUE!
A10: =NILAI!A7 -> 6 | B10: =NILAI!AA7 -> FERIYANANI SIREGAR | C10: =NILAI!J7 | D10: =NILAI!K7 -> 0 | E10: =NILAI!L7 -> 0 | F10: =ROUND(40%*C10+ 60%*((D10+E10)/2),0) -> #VALUE!
A11: =NILAI!A8 -> 7 | B11: =NILAI!AA8 -> HUSNI PADILA NASUTION | C11: =NILAI!J8 | D11: =NILAI!K8 -> 0 | E11: =NILAI!L8 -> 0 | F11: =ROUND(40%*C11+ 60%*((D11+E11)/2),0) -> #VALUE!
A12: =NILAI!A9 -> 8 | B12: =NILAI!AA9 -> ICHA ARISTA HARAHAP | C12: =NILAI!J9 | D12: =NILAI!K9 -> 0 | E12: =NILAI!L9 -> 0 | F12: =ROUND(40%*C12+ 60%*((D12+E12)/2),0) -> #VALUE!
A13: =NILAI!A10 -> 9 | B13: =NILAI!AA10 -> ILHAM HARAHAP | C13: =NILAI!J10 | D13: =NILAI!K10 -> 0 | E13: =NILAI!L10 -> 0 | F13: =ROUND(40%*C13+ 60%*((D13+E13)/2),0) -> #VALUE!
A14: =NILAI!A11 -> 10 | B14: =NILAI!AA11 -> INDRI DEVITA SARI TAMBUNAN | C14: =NILAI!J11 | D14: =NILAI!K11 -> 0 | E14: =NILAI!L11 -> 0 | F14: =ROUND(40%*C14+ 60%*((D14+E14)/2),0) -> #VALUE!
A15: =NILAI!A12 -> 11 | B15: =NILAI!AA12 -> IQBAL HASIAN HARAHAP | C15: =NILAI!J12 | D15: =NILAI!K12 -> 0 | E15: =NILAI!L12 -> 0 | F15: =ROUND(40%*C15+ 60%*((D15+E15)/2),0) -> #VALUE!
A16: =NILAI!A13 -> 12 | B16: =NILAI!AA13 -> IQBAL MAULANA HASIBUAN | C16: =NILAI!J13 | D16: =NILAI!K13 -> 0 | E16: =NILAI!L13 -> 0 | F16: =ROUND(40%*C16+ 60%*((D16+E16)/2),0) -> #VALUE!
... A38: =NILAI!A35 -> 34 | B38: =NILAI!AA35 -> ZAIRAH MADIYAMI NASUTION | C38: =NILAI!J35 | D38: =NILAI!K35 -> 0 | E38: =NILAI!L35 -> 0 | F38: =ROUND(40%*C38+ 60%*((D38+E38)/2),0) -> #VALUE!
F40: Binanga, 12 Desember 2022
F41: Guru Bid. Studi
F46: =NILAI!AG6 -> ADE JOHANDI DAMANIK, S.Pd
F47: ="NIP. " &NILAI!AG7 -> NIP. 19910427 201903 1 011
